BEGIN:VCALENDAR
VERSION:2.0
PRODID:-//https://jfw-mw.ch//NONSGML kigkonsult.se iCalcreator 2.41.71//
CALSCALE:GREGORIAN
METHOD:PUBLISH
UID:61396363-6137-4161-a139-306338373161
X-WR-CALNAME:JCal Pro Kalender
X-WR-CALDESC:Ihr Online-Terminkalender
X-WR-TIMEZONE:UTC
BEGIN:VTIMEZONE
TZID:UTC
END:VTIMEZONE
BEGIN:VEVENT
UID:47ECD71F-2AFD-B154-B5E6-21EA8D0F77B5
DTSTAMP:20260421T131106Z
CATEGORIES:Vorstand
DESCRIPTION:<p>Thema/Dienst: Vorstandssitzung 2/26 <br />Übungsstoff: Büro 
 FW Mag <br />Verantwortlich: Kpl Zbinden Roman <br />Aufgebot: Vorstand / 
 Leiter</p>
DTSTART:20260428T190000Z
DTEND:20260428T210000Z
SUMMARY:Vorstandssitzung 2/26
URL:https://jfw-mw.ch/index.php/veranstaltungen/veranstaltungen-2/22-vorsta
 nd/138-vorstandssitzung-2-26
X-ALT-DESC;FMTTYPE=TEXT/HTML:<p>Thema/Dienst: Vorstandssitzung 2/26 <br />Ü
 bungsstoff: Büro FW Mag <br />Verantwortlich: Kpl Zbinden Roman <br />Aufg
 ebot: Vorstand / Leiter</p>
END:VEVENT
END:VCALENDAR
